BEGIN:VCALENDAR
VERSION:2.0
PRODID:-//Southern Palmetto Regional Chamber - ECPv6.15.20//NONSGML v1.0//EN
CALSCALE:GREGORIAN
METHOD:PUBLISH
X-ORIGINAL-URL:https://southernpalmettochamber.org
X-WR-CALDESC:Events for Southern Palmetto Regional Chamber
REFRESH-INTERVAL;VALUE=DURATION:PT1H
X-Robots-Tag:noindex
X-PUBLISHED-TTL:PT1H
BEGIN:VTIMEZONE
TZID:America/New_York
BEGIN:DAYLIGHT
TZOFFSETFROM:-0500
TZOFFSETTO:-0400
TZNAME:EDT
DTSTART:20250309T070000
END:DAYLIGHT
BEGIN:STANDARD
TZOFFSETFROM:-0400
TZOFFSETTO:-0500
TZNAME:EST
DTSTART:20251102T060000
END:STANDARD
BEGIN:DAYLIGHT
TZOFFSETFROM:-0500
TZOFFSETTO:-0400
TZNAME:EDT
DTSTART:20260308T070000
END:DAYLIGHT
BEGIN:STANDARD
TZOFFSETFROM:-0400
TZOFFSETTO:-0500
TZNAME:EST
DTSTART:20261101T060000
END:STANDARD
BEGIN:DAYLIGHT
TZOFFSETFROM:-0500
TZOFFSETTO:-0400
TZNAME:EDT
DTSTART:20270314T070000
END:DAYLIGHT
BEGIN:STANDARD
TZOFFSETFROM:-0400
TZOFFSETTO:-0500
TZNAME:EST
DTSTART:20271107T060000
END:STANDARD
END:VTIMEZONE
BEGIN:VEVENT
DTSTART;TZID=America/New_York:20260310T173000
DTEND;TZID=America/New_York:20260310T190000
DTSTAMP:20260419T132012
CREATED:20260107T144835Z
LAST-MODIFIED:20260129T163549Z
UID:6235-1773163800-1773169200@southernpalmettochamber.org
SUMMARY:Cocktails & Connections
DESCRIPTION:Join us for an evening of casual networking with fellow professionals\, business owners\, and community members. Enjoy great conversations and connections. Open to anyone looking to connect! FREE Headshots.   \n\n\n\n https://www.eventcreate.com/e/cocktails-and-connections-196188
URL:https://southernpalmettochamber.org/event/cocktails-connections-2/
LOCATION:224 Photography\, 135 Sumter Ave\, Fairfax\, South Carolina\, 29827
ATTACH;FMTTYPE=image/png:https://southernpalmettochamber.org/wp-content/uploads/2026/01/Blue-and-Pink-Modern-Upcoming-Event-Schedule-Twitter-Post-2-1-4.png
END:VEVENT
BEGIN:VEVENT
DTSTART;TZID=America/New_York:20260313T113000
DTEND;TZID=America/New_York:20260313T123000
DTSTAMP:20260419T132012
CREATED:20260311T161724Z
LAST-MODIFIED:20260311T161727Z
UID:6983-1773401400-1773405000@southernpalmettochamber.org
SUMMARY:HyProMag Ribbon Cutting
DESCRIPTION:Join us for the Ribbon Cutting Ceremony
URL:https://southernpalmettochamber.org/event/hypromag-ribbon-cutting/
LOCATION:110 Kelly St Williston\, SC\, 110 Kelly St\, Barnwell\, South Carolina\, 29812
ATTACH;FMTTYPE=image/png:https://southernpalmettochamber.org/wp-content/uploads/2026/03/Grand-Opening-600-x-300-px-1920-x-1080-px-600-x-400-px-1.png
END:VEVENT
BEGIN:VEVENT
DTSTART;TZID=America/New_York:20260319T173000
DTEND;TZID=America/New_York:20260319T190000
DTSTAMP:20260419T132012
CREATED:20260120T144055Z
LAST-MODIFIED:20260120T144101Z
UID:6348-1773941400-1773946800@southernpalmettochamber.org
SUMMARY:Business After Hours
DESCRIPTION:Join the Southern Palmetto Regional Chamber and community partners for an evening celebrating our local history and connections. The event will be held at the USC Salkehatchie Atrium from 5:30–7:00 PM and will feature networking with local business leaders and light refreshments. Don’t miss this opportunity to honor our heritage and strengthen community partnerships!
URL:https://southernpalmettochamber.org/event/business-after-hours-2/
LOCATION:USC Salkehatchie\, Allendale\, 465 James Brandt Blvd\, Allendale\, SC 29810\, Allendale\, South Carolina\, 29812\, United States
ATTACH;FMTTYPE=image/png:https://southernpalmettochamber.org/wp-content/uploads/2026/01/Business-after-hours-7x5-1.png
END:VEVENT
BEGIN:VEVENT
DTSTART;TZID=America/New_York:20260321T100000
DTEND;TZID=America/New_York:20260321T150000
DTSTAMP:20260419T132012
CREATED:20260304T174910Z
LAST-MODIFIED:20260304T174913Z
UID:6834-1774087200-1774105200@southernpalmettochamber.org
SUMMARY:27th Annual Spring Herb Fest
DESCRIPTION:Join the Little Red Barn Pottery & Art for their 27th Annual Spring Herb Fest and celebrate the 100th Anniversary of the Red Barn  building!
URL:https://southernpalmettochamber.org/event/27th-annual-spring-herb-fest/
LOCATION:Little Red Barn Pottery & Art Gallery\, 12080 Hwy 278\, Barnwell\, South Carolina\, 29812\, United States
END:VEVENT
BEGIN:VEVENT
DTSTART;TZID=America/New_York:20260326T173000
DTEND;TZID=America/New_York:20260326T200000
DTSTAMP:20260419T132012
CREATED:20260129T161215Z
LAST-MODIFIED:20260324T213224Z
UID:6463-1774546200-1774555200@southernpalmettochamber.org
SUMMARY:Annual Member Gala
DESCRIPTION:The Annual Member Gala is our opportunity to gather\, reflect\, and celebrate the businesses and individuals who help shape our region. From small businesses to major employers\, our members are the backbone of economic growth and community leadership. \n\n\n\nThis special evening recognizes their contributions and highlights the collaborative spirit that defines our Chamber and strengthens our community. Guests will enjoy an elegant evening of connection\, celebration\, and recognition among fellow members and community leaders. \n\n\n\nAttire: Semi-formal \n\n\n\n\nRSVP NOW
URL:https://southernpalmettochamber.org/event/gala/
LOCATION:Fairfax Senior Community Center\, 635 Allendale Fairfax Hwy\, Fairfax\, South Carolina\, 29827
ATTACH;FMTTYPE=image/jpeg:https://southernpalmettochamber.org/wp-content/uploads/2026/02/Annual-Member-Gala-Invitation.jpg
END:VEVENT
END:VCALENDAR